BEGIN:VCALENDAR
VERSION:2.0
PRODID:-//Psychedelic Society - ECPv6.15.20//NONSGML v1.0//EN
CALSCALE:GREGORIAN
METHOD:PUBLISH
X-WR-CALNAME:Psychedelic Society
X-ORIGINAL-URL:https://www.psychedelicsociety.at
X-WR-CALDESC:Events for Psychedelic Society
REFRESH-INTERVAL;VALUE=DURATION:PT1H
X-Robots-Tag:noindex
X-PUBLISHED-TTL:PT1H
BEGIN:VTIMEZONE
TZID:Europe/Vienna
BEGIN:DAYLIGHT
TZOFFSETFROM:+0100
TZOFFSETTO:+0200
TZNAME:CEST
DTSTART:20250330T010000
END:DAYLIGHT
BEGIN:STANDARD
TZOFFSETFROM:+0200
TZOFFSETTO:+0100
TZNAME:CET
DTSTART:20251026T010000
END:STANDARD
BEGIN:DAYLIGHT
TZOFFSETFROM:+0100
TZOFFSETTO:+0200
TZNAME:CEST
DTSTART:20260329T010000
END:DAYLIGHT
BEGIN:STANDARD
TZOFFSETFROM:+0200
TZOFFSETTO:+0100
TZNAME:CET
DTSTART:20261025T010000
END:STANDARD
BEGIN:DAYLIGHT
TZOFFSETFROM:+0100
TZOFFSETTO:+0200
TZNAME:CEST
DTSTART:20270328T010000
END:DAYLIGHT
BEGIN:STANDARD
TZOFFSETFROM:+0200
TZOFFSETTO:+0100
TZNAME:CET
DTSTART:20271031T010000
END:STANDARD
END:VTIMEZONE
BEGIN:VEVENT
DTSTART;TZID=Europe/Vienna:20260516T183000
DTEND;TZID=Europe/Vienna:20260516T220000
DTSTAMP:20260419T191311
CREATED:20260210T190602Z
LAST-MODIFIED:20260210T190642Z
UID:11091-1778956200-1778968800@www.psychedelicsociety.at
SUMMARY:Talk: Holotropic Breathwork
DESCRIPTION:More info coming soon :)
URL:https://www.psychedelicsociety.at/event/talk-holotropic-breathwork/
LOCATION:PSV Homebase\, Sagedergasse 18\, Wien\, Door between Bipa and Billa\, 1120\, Austria
END:VEVENT
BEGIN:VEVENT
DTSTART;TZID=Europe/Vienna:20260606T193000
DTEND;TZID=Europe/Vienna:20260606T223000
DTSTAMP:20260419T191311
CREATED:20260409T105828Z
LAST-MODIFIED:20260409T105828Z
UID:11101-1780774200-1780785000@www.psychedelicsociety.at
SUMMARY:Save the date
DESCRIPTION:TBA
URL:https://www.psychedelicsociety.at/event/save-the-date/
LOCATION:PSV Homebase\, Sagedergasse 18\, Wien\, Door between Bipa and Billa\, 1120\, Austria
END:VEVENT
END:VCALENDAR